BEGIN:VCALENDAR
VERSION:2.0
PRODID:-//Allerthorpe Parish Council//Meeting Calendar//EN
CALSCALE:GREGORIAN
METHOD:PUBLISH
BEGIN:VEVENT
UID:70472-20240828@allerthorpeparishcouncil.gov.uk
DTSTAMP:20260423T083814Z
DTSTART;VALUE=DATE:20240828
DTEND;VALUE=DATE:20240829
SUMMARY:Full Council Meeting &#8211\\; 28 August 2024
DESCRIPTION:Full Council Meeting\nView details: https://allerthorpeparishcouncil.gov.uk/meetings/full-council-meeting-28-august-2024/
URL:https://allerthorpeparishcouncil.gov.uk/meetings/full-council-meeting-28-august-2024/
END:VEVENT
END:VCALENDAR
